    BEGIN:VCALENDAR
VERSION:2.0
PRODID:-//Occijazz | Réseau jazz en occitanie - ECPv6.11.2.1//NONSGML v1.0//EN
CALSCALE:GREGORIAN
METHOD:PUBLISH
X-WR-CALNAME:Occijazz | Réseau jazz en occitanie
X-ORIGINAL-URL:https://occijazz.fr
X-WR-CALDESC:Évènements pour Occijazz | Réseau jazz en occitanie
REFRESH-INTERVAL;VALUE=DURATION:PT1H
X-Robots-Tag:noindex
X-PUBLISHED-TTL:PT1H
BEGIN:VTIMEZONE
TZID:Europe/Paris
BEGIN:DAYLIGHT
TZOFFSETFROM:+0100
TZOFFSETTO:+0200
TZNAME:CEST
DTSTART:20240331T010000
END:DAYLIGHT
BEGIN:STANDARD
TZOFFSETFROM:+0200
TZOFFSETTO:+0100
TZNAME:CET
DTSTART:20241027T010000
END:STANDARD
END:VTIMEZONE
BEGIN:VEVENT
DTSTART;VALUE=DATE:20240101
DTEND;VALUE=DATE:20250101
DTSTAMP:20260422T014031
CREATED:20231201T115109Z
LAST-MODIFIED:20240202T234845Z
UID:2351-1704067200-1735689599@occijazz.fr
SUMMARY:Concerts du mois
DESCRIPTION:
URL:https://occijazz.fr/event/concerts-de-decembre-en-occitanie/
CATEGORIES:actus
ATTACH;FMTTYPE=image/jpeg:https://occijazz.fr/wp-content/uploads/2023/12/407786624_122133716810038047_5203825539147048062_n.jpg
END:VEVENT
END:VCALENDAR