    BEGIN:VCALENDAR
VERSION:2.0
PRODID:-//Occijazz | Réseau jazz en occitanie - ECPv6.11.2.1//NONSGML v1.0//EN
CALSCALE:GREGORIAN
METHOD:PUBLISH
X-WR-CALNAME:Occijazz | Réseau jazz en occitanie
X-ORIGINAL-URL:https://occijazz.fr
X-WR-CALDESC:Évènements pour Occijazz | Réseau jazz en occitanie
REFRESH-INTERVAL;VALUE=DURATION:PT1H
X-Robots-Tag:noindex
X-PUBLISHED-TTL:PT1H
BEGIN:VTIMEZONE
TZID:Europe/Paris
BEGIN:DAYLIGHT
TZOFFSETFROM:+0100
TZOFFSETTO:+0200
TZNAME:CEST
DTSTART:20230326T010000
END:DAYLIGHT
BEGIN:STANDARD
TZOFFSETFROM:+0200
TZOFFSETTO:+0100
TZNAME:CET
DTSTART:20231029T010000
END:STANDARD
END:VTIMEZONE
BEGIN:VEVENT
DTSTART;VALUE=DATE:20231024
DTEND;VALUE=DATE:20231127
DTSTAMP:20260422T105512
CREATED:20231023T232927Z
LAST-MODIFIED:20231023T233227Z
UID:2319-1698105600-1701043199@occijazz.fr
SUMMARY:Appel à candidatures : Résidences de création
DESCRIPTION:
URL:https://occijazz.fr/event/appel-a-candidatures-residences-de-creation/
CATEGORIES:actus
ATTACH;FMTTYPE=image/png:https://occijazz.fr/wp-content/uploads/2023/10/Pack-Candidatures-1.png
END:VEVENT
END:VCALENDAR