    BEGIN:VCALENDAR
VERSION:2.0
PRODID:-//Occijazz | Réseau jazz en occitanie - ECPv6.11.2.1//NONSGML v1.0//EN
CALSCALE:GREGORIAN
METHOD:PUBLISH
X-WR-CALNAME:Occijazz | Réseau jazz en occitanie
X-ORIGINAL-URL:https://occijazz.fr
X-WR-CALDESC:Évènements pour Occijazz | Réseau jazz en occitanie
REFRESH-INTERVAL;VALUE=DURATION:PT1H
X-Robots-Tag:noindex
X-PUBLISHED-TTL:PT1H
BEGIN:VTIMEZONE
TZID:Europe/Paris
BEGIN:DAYLIGHT
TZOFFSETFROM:+0100
TZOFFSETTO:+0200
TZNAME:CEST
DTSTART:20220327T010000
END:DAYLIGHT
BEGIN:STANDARD
TZOFFSETFROM:+0200
TZOFFSETTO:+0100
TZNAME:CET
DTSTART:20221030T010000
END:STANDARD
END:VTIMEZONE
BEGIN:VEVENT
DTSTART;TZID=Europe/Paris:20220525T080000
DTEND;TZID=Europe/Paris:20220714T170000
DTSTAMP:20260423T133313
CREATED:20220525T102732Z
LAST-MODIFIED:20220622T053120Z
UID:1994-1653465600-1657818000@occijazz.fr
SUMMARY:La saison itinérante 2022
DESCRIPTION:
URL:https://occijazz.fr/event/la-saison-itinerante-2022/
CATEGORIES:actus
ATTACH;FMTTYPE=image/png:https://occijazz.fr/wp-content/uploads/2022/05/banner.png
END:VEVENT
END:VCALENDAR