    BEGIN:VCALENDAR
VERSION:2.0
PRODID:-//Occijazz | Réseau jazz en occitanie - ECPv6.11.2.1//NONSGML v1.0//EN
CALSCALE:GREGORIAN
METHOD:PUBLISH
X-WR-CALNAME:Occijazz | Réseau jazz en occitanie
X-ORIGINAL-URL:https://occijazz.fr
X-WR-CALDESC:Évènements pour Occijazz | Réseau jazz en occitanie
REFRESH-INTERVAL;VALUE=DURATION:PT1H
X-Robots-Tag:noindex
X-PUBLISHED-TTL:PT1H
BEGIN:VTIMEZONE
TZID:Europe/Paris
BEGIN:DAYLIGHT
TZOFFSETFROM:+0100
TZOFFSETTO:+0200
TZNAME:CEST
DTSTART:20220327T010000
END:DAYLIGHT
BEGIN:STANDARD
TZOFFSETFROM:+0200
TZOFFSETTO:+0100
TZNAME:CET
DTSTART:20221030T010000
END:STANDARD
END:VTIMEZONE
BEGIN:VEVENT
DTSTART;TZID=Europe/Paris:20220303T080000
DTEND;TZID=Europe/Paris:20220331T170000
DTSTAMP:20260423T182955
CREATED:20220303T161713Z
LAST-MODIFIED:20220303T161713Z
UID:1885-1646294400-1648746000@occijazz.fr
SUMMARY:[PARLONS d'ELLES] de retour!
DESCRIPTION:
URL:https://occijazz.fr/event/parlons-delles-de-retour/
CATEGORIES:actus
END:VEVENT
BEGIN:VEVENT
DTSTART;TZID=Europe/Paris:20220303T080000
DTEND;TZID=Europe/Paris:20220615T170000
DTSTAMP:20260423T182955
CREATED:20220303T162336Z
LAST-MODIFIED:20220525T103649Z
UID:1887-1646294400-1655312400@occijazz.fr
SUMMARY:Retrouvez les vidéos des concerts Occijazz
DESCRIPTION:
URL:https://occijazz.fr/event/retrouvez-les-videos-des-concerts-occijazz/
CATEGORIES:actus
END:VEVENT
BEGIN:VEVENT
DTSTART;TZID=Europe/Paris:20220308T080000
DTEND;TZID=Europe/Paris:20220420T090000
DTSTAMP:20260423T182955
CREATED:20220308T140527Z
LAST-MODIFIED:20220404T073804Z
UID:1928-1646726400-1650445200@occijazz.fr
SUMMARY:Bientôt l'AG 2022!
DESCRIPTION:
URL:https://occijazz.fr/event/bientot-lag-2022/
CATEGORIES:actus
END:VEVENT
END:VCALENDAR