    BEGIN:VCALENDAR
VERSION:2.0
PRODID:-//Occijazz | Réseau jazz en occitanie - ECPv6.11.2.1//NONSGML v1.0//EN
CALSCALE:GREGORIAN
METHOD:PUBLISH
X-ORIGINAL-URL:https://occijazz.fr
X-WR-CALDESC:Évènements pour Occijazz | Réseau jazz en occitanie
REFRESH-INTERVAL;VALUE=DURATION:PT1H
X-Robots-Tag:noindex
X-PUBLISHED-TTL:PT1H
BEGIN:VTIMEZONE
TZID:Europe/Paris
BEGIN:DAYLIGHT
TZOFFSETFROM:+0100
TZOFFSETTO:+0200
TZNAME:CEST
DTSTART:20220327T010000
END:DAYLIGHT
BEGIN:STANDARD
TZOFFSETFROM:+0200
TZOFFSETTO:+0100
TZNAME:CET
DTSTART:20221030T010000
END:STANDARD
END:VTIMEZONE
BEGIN:VEVENT
DTSTART;VALUE=DATE:20220117
DTEND;VALUE=DATE:20220302
DTSTAMP:20260423T214011
CREATED:20220114T144525Z
LAST-MODIFIED:20220228T155104Z
UID:1850-1642377600-1646179199@occijazz.fr
SUMMARY:Retransmission en direct des concerts - Rencontres pros Albi
DESCRIPTION:
URL:https://occijazz.fr/event/retransmission-en-direct-des-concerts-rencontres-pros-albi/
CATEGORIES:actus
END:VEVENT
BEGIN:VEVENT
DTSTART;TZID=Europe/Paris:20220117T080000
DTEND;TZID=Europe/Paris:20220301T170000
DTSTAMP:20260423T214011
CREATED:20211118T142103Z
LAST-MODIFIED:20220228T155004Z
UID:1757-1642406400-1646154000@occijazz.fr
SUMMARY:Rencontres professionnelles jazz et musiques du monde
DESCRIPTION:
URL:https://occijazz.fr/event/rencontres-professionnelles-jazz-et-musiques-du-monde/
CATEGORIES:actus
END:VEVENT
END:VCALENDAR