    BEGIN:VCALENDAR
VERSION:2.0
PRODID:-//Occijazz | Réseau jazz en occitanie - ECPv6.11.2.1//NONSGML v1.0//EN
CALSCALE:GREGORIAN
METHOD:PUBLISH
X-WR-CALNAME:Occijazz | Réseau jazz en occitanie
X-ORIGINAL-URL:https://occijazz.fr
X-WR-CALDESC:Évènements pour Occijazz | Réseau jazz en occitanie
REFRESH-INTERVAL;VALUE=DURATION:PT1H
X-Robots-Tag:noindex
X-PUBLISHED-TTL:PT1H
BEGIN:VTIMEZONE
TZID:Europe/Paris
BEGIN:DAYLIGHT
TZOFFSETFROM:+0100
TZOFFSETTO:+0200
TZNAME:CEST
DTSTART:20250330T010000
END:DAYLIGHT
BEGIN:STANDARD
TZOFFSETFROM:+0200
TZOFFSETTO:+0100
TZNAME:CET
DTSTART:20251026T010000
END:STANDARD
END:VTIMEZONE
BEGIN:VEVENT
DTSTART;TZID=Europe/Paris:20250403T100000
DTEND;TZID=Europe/Paris:20250403T100000
DTSTAMP:20260422T205917
CREATED:20250317T193142Z
LAST-MODIFIED:20250317T195041Z
UID:2641-1743674400-1743674400@occijazz.fr
SUMMARY:Assemblée Générale Occijazz
DESCRIPTION:
URL:https://occijazz.fr/event/assemblee-generale-occijazz/
CATEGORIES:actus
ATTACH;FMTTYPE=image/jpeg:https://occijazz.fr/wp-content/uploads/2025/03/AG-OCCIJAZZ-2025.jpg
END:VEVENT
END:VCALENDAR