    BEGIN:VCALENDAR
VERSION:2.0
PRODID:-//Occijazz | Réseau jazz en occitanie - ECPv6.11.2.1//NONSGML v1.0//EN
CALSCALE:GREGORIAN
METHOD:PUBLISH
X-WR-CALNAME:Occijazz | Réseau jazz en occitanie
X-ORIGINAL-URL:https://occijazz.fr
X-WR-CALDESC:Évènements pour Occijazz | Réseau jazz en occitanie
REFRESH-INTERVAL;VALUE=DURATION:PT1H
X-Robots-Tag:noindex
X-PUBLISHED-TTL:PT1H
BEGIN:VTIMEZONE
TZID:Europe/Paris
BEGIN:DAYLIGHT
TZOFFSETFROM:+0100
TZOFFSETTO:+0200
TZNAME:CEST
DTSTART:20240331T010000
END:DAYLIGHT
BEGIN:STANDARD
TZOFFSETFROM:+0200
TZOFFSETTO:+0100
TZNAME:CET
DTSTART:20241027T010000
END:STANDARD
BEGIN:DAYLIGHT
TZOFFSETFROM:+0100
TZOFFSETTO:+0200
TZNAME:CEST
DTSTART:20250330T010000
END:DAYLIGHT
BEGIN:STANDARD
TZOFFSETFROM:+0200
TZOFFSETTO:+0100
TZNAME:CET
DTSTART:20251026T010000
END:STANDARD
END:VTIMEZONE
BEGIN:VEVENT
DTSTART;VALUE=DATE:20241224
DTEND;VALUE=DATE:20250201
DTSTAMP:20260422T162351
CREATED:20241224T120123Z
LAST-MODIFIED:20250107T171127Z
UID:2569-1734998400-1738367999@occijazz.fr
SUMMARY:Bonne année 2025 !
DESCRIPTION:
URL:https://occijazz.fr/event/joyeuses-fetes/
CATEGORIES:actus
END:VEVENT
BEGIN:VEVENT
DTSTART;VALUE=DATE:20250130
DTEND;VALUE=DATE:20250131
DTSTAMP:20260422T162351
CREATED:20241209T155911Z
LAST-MODIFIED:20250123T142441Z
UID:2563-1738195200-1738281599@occijazz.fr
SUMMARY:RENCONTRES PROFESSIONNELLES
DESCRIPTION:
URL:https://occijazz.fr/event/rencontres-professionnelles-occijazz-2025/
CATEGORIES:actus
ATTACH;FMTTYPE=image/jpeg:https://occijazz.fr/wp-content/uploads/2024/12/5e-rencontres-professionnelles-occijazz-rs.jpg
END:VEVENT
END:VCALENDAR